BEGIN:VCALENDAR
VERSION:2.0
PRODID:-//InvisionCommunity Events 4.7.23//EN
METHOD:PUBLISH
CALSCALE:GREGORIAN
REFRESH-INTERVAL:PT15M
X-PUBLISHED-TTL:PT15M
X-WR-CALNAME:At My TV
NAME:At My TV
BEGIN:VTIMEZONE
TZID:Europe/London
TZURL:http://tzurl.org/zoneinfo/Europe/London
X-LIC-LOCATION:Europe/London
BEGIN:DAYLIGHT
TZOFFSETFROM:+0000
TZOFFSETTO:+0100
TZNAME:BST
DTSTART:20180325T020000Z
RRULE:FREQ=YEARLY;BYMONTH=3;BYDAY=-1SU
END:DAYLIGHT
BEGIN:STANDARD
TZOFFSETFROM:+0100
TZOFFSETTO:+0000
TZNAME:GMT
DTSTART:20181028T020000Z
RRULE:FREQ=YEARLY;BYMONTH=10;BYDAY=-1SU
END:STANDARD
END:VTIMEZONE
BEGIN:VEVENT
SUMMARY:Great News 2x13 - Early Retirement
DTSTAMP:20180112T060605Z
SEQUENCE:0
UID:81243-2-841ebed20eb198c4569419e99b7bf40a@themidnightzone.com
ORGANIZER;CN="Midnight":midnight@themidnightzone.com
DESCRIPTION:Diana St. Tropez returns with good news for \"The Breakdown\
	"staff: Fenton Pelt has agreed to drop his lawsuit on thecondition that Ch
	uck Pierce deliver a humiliating on-airapology and resign from news foreve
	r. Chuck\, defeated\,agrees\, until Portia reminds him why he got into jou
	rnalism inthe first place. With Chuck's final broadcast approaching\,Katie
	 convinces Carol to reunite for one last job\, and theyrace against the cl
	ock to find the one person in New Jersey whocould disprove Fenton Pelt's c
	laims and save the show.
DTSTART:20180126T023100Z
DTEND:20180126T030100Z
END:VEVENT
END:VCALENDAR
