BEGIN:VCALENDAR
VERSION:2.0
PRODID:-//InvisionCommunity Events 4.7.23//EN
METHOD:PUBLISH
CALSCALE:GREGORIAN
REFRESH-INTERVAL:PT15M
X-PUBLISHED-TTL:PT15M
X-WR-CALNAME:At My TV
NAME:At My TV
BEGIN:VTIMEZONE
TZID:Europe/London
TZURL:http://tzurl.org/zoneinfo/Europe/London
X-LIC-LOCATION:Europe/London
BEGIN:DAYLIGHT
TZOFFSETFROM:+0000
TZOFFSETTO:+0100
TZNAME:BST
DTSTART:20180325T020000Z
RRULE:FREQ=YEARLY;BYMONTH=3;BYDAY=-1SU
END:DAYLIGHT
BEGIN:STANDARD
TZOFFSETFROM:+0100
TZOFFSETTO:+0000
TZNAME:GMT
DTSTART:20181028T020000Z
RRULE:FREQ=YEARLY;BYMONTH=10;BYDAY=-1SU
END:STANDARD
END:VTIMEZONE
BEGIN:VEVENT
SUMMARY:Hells Kitchen (US) 17x14 - Families Come to Hell
DTSTAMP:20180113T060604Z
SEQUENCE:0
UID:81300-2-841ebed20eb198c4569419e99b7bf40a@themidnightzone.com
ORGANIZER;CN="Midnight":midnight@themidnightzone.com
DESCRIPTION:When the families come to visit\, the four remaining All-Sta
	rsare feeling extra-motivated to succeed. For this week'schallenge\, the c
	hefs must choose a gift\, each of whichcontains a secret ingredient on whi
	ch they must base theirdish. They will then anonymously serve their dishes
	 to eachfamily\, and whoever gets the most votes\, wins a day in Malibuwit
	h Chef Ramsay and his/her family. Then\, actresses GabrielleDennis (\"The 
	Game\") and Anna Konkle (NEW GIRL) join dinnerservice\, during which each 
	contestant will have theopportunity to run the kitchen\, but will be teste
	d\, ascertain dishes will have the wrong ingredient. Find out whomakes it 
	to the final three.
DTSTART:20180127T010000Z
DTEND:20180127T020000Z
END:VEVENT
END:VCALENDAR
