BEGIN:VCALENDAR
VERSION:2.0
PRODID:-//InvisionCommunity Events 4.7.23//EN
METHOD:PUBLISH
CALSCALE:GREGORIAN
REFRESH-INTERVAL:PT15M
X-PUBLISHED-TTL:PT15M
X-WR-CALNAME:At My TV
NAME:At My TV
BEGIN:VTIMEZONE
TZID:Europe/London
TZURL:http://tzurl.org/zoneinfo/Europe/London
X-LIC-LOCATION:Europe/London
BEGIN:DAYLIGHT
TZOFFSETFROM:+0000
TZOFFSETTO:+0100
TZNAME:BST
DTSTART:20180325T020000Z
RRULE:FREQ=YEARLY;BYMONTH=3;BYDAY=-1SU
END:DAYLIGHT
BEGIN:STANDARD
TZOFFSETFROM:+0100
TZOFFSETTO:+0000
TZNAME:GMT
DTSTART:20181028T020000Z
RRULE:FREQ=YEARLY;BYMONTH=10;BYDAY=-1SU
END:STANDARD
END:VTIMEZONE
BEGIN:VEVENT
SUMMARY:High Maintenance 2x2 - Fagin
DTSTAMP:20180113T060604Z
SEQUENCE:0
UID:81301-2-841ebed20eb198c4569419e99b7bf40a@themidnightzone.com
ORGANIZER;CN="Midnight":midnight@themidnightzone.com
DESCRIPTION:A couple (Marcia DeBonis\, Ray Anthony Thomas) visiting thei
	rdaughter (Amanda Debraux) in Bushwick embraces the urbansurroundings whil
	e dealing with a less-than-ideal rental thatcomes with an unwelcome roomma
	te. The Guy delivers to Brennaand Molly's all-female\, politically-minded 
	meetup\, wherethings get dramatic fast.
DTSTART:20180127T040000Z
DTEND:20180127T043000Z
END:VEVENT
END:VCALENDAR
