BEGIN:VCALENDAR
VERSION:2.0
PRODID:-//InvisionCommunity Events 4.7.23//EN
METHOD:PUBLISH
CALSCALE:GREGORIAN
REFRESH-INTERVAL:PT15M
X-PUBLISHED-TTL:PT15M
X-WR-CALNAME:At My TV
NAME:At My TV
BEGIN:VTIMEZONE
TZID:Europe/London
TZURL:http://tzurl.org/zoneinfo/Europe/London
X-LIC-LOCATION:Europe/London
BEGIN:DAYLIGHT
TZOFFSETFROM:+0000
TZOFFSETTO:+0100
TZNAME:BST
DTSTART:20180325T020000Z
RRULE:FREQ=YEARLY;BYMONTH=3;BYDAY=-1SU
END:DAYLIGHT
BEGIN:STANDARD
TZOFFSETFROM:+0100
TZOFFSETTO:+0000
TZNAME:GMT
DTSTART:20181028T020000Z
RRULE:FREQ=YEARLY;BYMONTH=10;BYDAY=-1SU
END:STANDARD
END:VTIMEZONE
BEGIN:VEVENT
SUMMARY:Saturday Night Live 43x11 - Jessica Chastain / Troye Sivan
DTSTAMP:20180113T060605Z
SEQUENCE:0
UID:81306-2-841ebed20eb198c4569419e99b7bf40a@themidnightzone.com
ORGANIZER;CN="Midnight":midnight@themidnightzone.com
DESCRIPTION:Jessica Chastain will take the \"SNL\" stage as host for her
	first time. Chastain can currently be seen in Aaron Sorkin'sdrama \"Molly'
	s Game\,\" opposite Idris Elba and Kevin Costner.Alongside Chastain\, Troy
	e Sivan will appear as musical guestfor the first time. \"My My My!\" – 
	the lead single fromSivan's new album – \"Blue Neighborhood\,\" his 2015
	multi-platinum debut album\, topped the iTunes charts in 66countries.
DTSTART:20180121T042900Z
DTEND:20180121T055900Z
END:VEVENT
END:VCALENDAR
