BEGIN:VCALENDAR
VERSION:2.0
PRODID:-//InvisionCommunity Events 4.7.23//EN
METHOD:PUBLISH
CALSCALE:GREGORIAN
REFRESH-INTERVAL:PT15M
X-PUBLISHED-TTL:PT15M
X-WR-CALNAME:At My TV
NAME:At My TV
BEGIN:VTIMEZONE
TZID:Europe/London
TZURL:http://tzurl.org/zoneinfo/Europe/London
X-LIC-LOCATION:Europe/London
BEGIN:DAYLIGHT
TZOFFSETFROM:+0000
TZOFFSETTO:+0100
TZNAME:BST
DTSTART:20180325T020000Z
RRULE:FREQ=YEARLY;BYMONTH=3;BYDAY=-1SU
END:DAYLIGHT
BEGIN:STANDARD
TZOFFSETFROM:+0100
TZOFFSETTO:+0000
TZNAME:GMT
DTSTART:20181028T020000Z
RRULE:FREQ=YEARLY;BYMONTH=10;BYDAY=-1SU
END:STANDARD
END:VTIMEZONE
BEGIN:VEVENT
SUMMARY:Saturday Night Live 43x12 - Will Ferrell / Chris Stapleton
DTSTAMP:20180114T060606Z
SEQUENCE:0
UID:81335-2-841ebed20eb198c4569419e99b7bf40a@themidnightzone.com
ORGANIZER;CN="Midnight":midnight@themidnightzone.com
DESCRIPTION:\"SNL\" vet Will Ferrell\, who was a cast member from 1995-2
	002\,will return to Studio 8H as a four-time host. His latestcomedy\, \"Da
	ddy's Home 2\,\" was released in November.ChrisStapleton will join Ferrell
	 as musical guest for the secondtime. His most recent album\, \"From A Roo
	m: Volume 2\,\" wasreleased on Dec. 1. It follows \"From A Room: Volume 1\
	,\" whichwon the 2017 CMA for Album of the Year and is nominated forBest C
	ountry Album at the 60th Annual Grammy Awards.
DTSTART:20180128T042900Z
DTEND:20180128T055900Z
END:VEVENT
END:VCALENDAR
