BEGIN:VCALENDAR
VERSION:2.0
PRODID:-//InvisionCommunity Events 4.7.23//EN
METHOD:PUBLISH
CALSCALE:GREGORIAN
REFRESH-INTERVAL:PT15M
X-PUBLISHED-TTL:PT15M
X-WR-CALNAME:At My TV
NAME:At My TV
BEGIN:VTIMEZONE
TZID:Europe/London
TZURL:http://tzurl.org/zoneinfo/Europe/London
X-LIC-LOCATION:Europe/London
BEGIN:DAYLIGHT
TZOFFSETFROM:+0000
TZOFFSETTO:+0100
TZNAME:BST
DTSTART:20180325T020000Z
RRULE:FREQ=YEARLY;BYMONTH=3;BYDAY=-1SU
END:DAYLIGHT
BEGIN:STANDARD
TZOFFSETFROM:+0100
TZOFFSETTO:+0000
TZNAME:GMT
DTSTART:20181028T020000Z
RRULE:FREQ=YEARLY;BYMONTH=10;BYDAY=-1SU
END:STANDARD
END:VTIMEZONE
BEGIN:VEVENT
SUMMARY:Shark Tank 9x20 - Episode 20
DTSTAMP:20180115T060608Z
SEQUENCE:0
UID:81361-2-841ebed20eb198c4569419e99b7bf40a@themidnightzone.com
ORGANIZER;CN="Midnight":midnight@themidnightzone.com
DESCRIPTION:Two health conscious entrepreneurs from Redwood City\,Califo
	rnia\, introduce the sharks to their guilt-free sweettreat\; three athlete
	s from Berkeley\, California\, share theirmagic solution for when a shower
	 isn't possible and you're inthe thick of a stinky situation\; brothers fr
	om Oak Forest andChicago\, Illinois\, present their pricing tool that coll
	ectsspare change to help student loan borrowers\; an entrepreneurfrom Whee
	ling\, Illinois\, presents his patented technologygeared toward athletes\,
	 which helps secure and swap weightsquickly and safely
DTSTART:20180129T020000Z
DTEND:20180129T030000Z
END:VEVENT
END:VCALENDAR
