BEGIN:VCALENDAR
VERSION:2.0
PRODID:-//InvisionCommunity Events 4.7.23//EN
METHOD:PUBLISH
CALSCALE:GREGORIAN
REFRESH-INTERVAL:PT15M
X-PUBLISHED-TTL:PT15M
X-WR-CALNAME:At My TV
NAME:At My TV
BEGIN:VTIMEZONE
TZID:Europe/London
TZURL:http://tzurl.org/zoneinfo/Europe/London
X-LIC-LOCATION:Europe/London
BEGIN:DAYLIGHT
TZOFFSETFROM:+0000
TZOFFSETTO:+0100
TZNAME:BST
DTSTART:20180325T020000Z
RRULE:FREQ=YEARLY;BYMONTH=3;BYDAY=-1SU
END:DAYLIGHT
BEGIN:STANDARD
TZOFFSETFROM:+0100
TZOFFSETTO:+0000
TZNAME:GMT
DTSTART:20181028T020000Z
RRULE:FREQ=YEARLY;BYMONTH=10;BYDAY=-1SU
END:STANDARD
END:VTIMEZONE
BEGIN:VEVENT
SUMMARY:Worst Cooks in America 12x4 - Game Day!
DTSTAMP:20180115T060608Z
SEQUENCE:0
UID:81372-2-841ebed20eb198c4569419e99b7bf40a@themidnightzone.com
ORGANIZER;CN="Midnight":midnight@themidnightzone.com
DESCRIPTION:It's game day at Worst Cooks boot camp\, and the recruits mu
	stmake varsity-worthy nachos inspired by different flavorprofiles. They ge
	t into the game day spirit by competing in agame of cornhole to determine 
	what flavor profile they willuse. For the main dish challenge\, mentors An
	ne Burrell andTyler Florence teach their recruits how to make irresistible
	\,stuffed burgers. The recruits step up to the plate and throwdarts at a m
	ap to determine which of the 50 states will inspiretheir own craveable cre
	ations. The recruits who scoretouchdowns with their burgers will continue 
	on\, but those whofumble in the kitchen will be cut from their teams.
DTSTART:20180129T020000Z
DTEND:20180129T030000Z
END:VEVENT
END:VCALENDAR
