BEGIN:VCALENDAR
VERSION:2.0
PRODID:-//InvisionCommunity Events 4.7.23//EN
METHOD:PUBLISH
CALSCALE:GREGORIAN
REFRESH-INTERVAL:PT15M
X-PUBLISHED-TTL:PT15M
X-WR-CALNAME:At My TV
NAME:At My TV
BEGIN:VTIMEZONE
TZID:Europe/London
TZURL:http://tzurl.org/zoneinfo/Europe/London
X-LIC-LOCATION:Europe/London
BEGIN:DAYLIGHT
TZOFFSETFROM:+0000
TZOFFSETTO:+0100
TZNAME:BST
DTSTART:20180325T020000Z
RRULE:FREQ=YEARLY;BYMONTH=3;BYDAY=-1SU
END:DAYLIGHT
BEGIN:STANDARD
TZOFFSETFROM:+0100
TZOFFSETTO:+0000
TZNAME:GMT
DTSTART:20181028T020000Z
RRULE:FREQ=YEARLY;BYMONTH=10;BYDAY=-1SU
END:STANDARD
END:VTIMEZONE
BEGIN:VEVENT
SUMMARY:Silent Witness 21x8 - One Day: Part Two
DTSTAMP:20180116T060606Z
SEQUENCE:0
UID:81412-2-841ebed20eb198c4569419e99b7bf40a@themidnightzone.com
ORGANIZER;CN="Midnight":midnight@themidnightzone.com
DESCRIPTION:The team are determined to uncover the truth about unexplain
	eddeaths of patients at a care home. They are desperate to rescueSerena an
	d return her to safety. Unbeknownst to her colleaguesin the Lyell Centre\,
	 Clarissa allows herself to be admitted tothe care home in order to invest
	igate. Her determination tofind out what happened leads her to uncover a s
	hocking truth\,but puts her life in danger.
DTSTART:20180130T210000Z
DTEND:20180130T220000Z
END:VEVENT
END:VCALENDAR
