BEGIN:VCALENDAR
VERSION:2.0
PRODID:-//InvisionCommunity Events 4.7.23//EN
METHOD:PUBLISH
CALSCALE:GREGORIAN
REFRESH-INTERVAL:PT15M
X-PUBLISHED-TTL:PT15M
X-WR-CALNAME:At My TV
NAME:At My TV
BEGIN:VTIMEZONE
TZID:Europe/London
TZURL:http://tzurl.org/zoneinfo/Europe/London
X-LIC-LOCATION:Europe/London
BEGIN:DAYLIGHT
TZOFFSETFROM:+0000
TZOFFSETTO:+0100
TZNAME:BST
DTSTART:20180325T020000Z
RRULE:FREQ=YEARLY;BYMONTH=3;BYDAY=-1SU
END:DAYLIGHT
BEGIN:STANDARD
TZOFFSETFROM:+0100
TZOFFSETTO:+0000
TZNAME:GMT
DTSTART:20181028T020000Z
RRULE:FREQ=YEARLY;BYMONTH=10;BYDAY=-1SU
END:STANDARD
END:VTIMEZONE
BEGIN:VEVENT
SUMMARY:Call The Midwife 7x2 - Episode 2
DTSTAMP:20180118T060606Z
SEQUENCE:0
UID:81496-2-841ebed20eb198c4569419e99b7bf40a@themidnightzone.com
ORGANIZER;CN="Midnight":midnight@themidnightzone.com
DESCRIPTION:Lucille is on duty when Valerie's family friend Marjory goes
	into labour.Marjory's mother Mae is sceptical about Lucille'sability\, but
	 is proved wrong when she competently delivers thebaby. However\, when Mar
	jory's health takes an unexpected turnfor the worse\, Mae's prejudice and 
	racism causes her to blameLucille. The team must rally to protect their ne
	west recruitand restore Lucille's confidence in their community.SisterWini
	fred makes a case for fathers to be more involved in theirwives' pregnanci
	es but finds the men of Poplar may need morepersuading. Trixie invites Chr
	istopher to eat a home-cookeddinner\, but the meal doesn't quite go as pla
	nned. And Shelaghgets a little more than she bargained for when their glam
	orousHungarian Au Pair arrives.
DTSTART:20180128T200000Z
DTEND:20180128T210000Z
END:VEVENT
END:VCALENDAR
