BEGIN:VCALENDAR
VERSION:2.0
PRODID:-//InvisionCommunity Events 4.7.23//EN
METHOD:PUBLISH
CALSCALE:GREGORIAN
REFRESH-INTERVAL:PT15M
X-PUBLISHED-TTL:PT15M
X-WR-CALNAME:At My TV
NAME:At My TV
BEGIN:VTIMEZONE
TZID:Europe/London
TZURL:http://tzurl.org/zoneinfo/Europe/London
X-LIC-LOCATION:Europe/London
BEGIN:DAYLIGHT
TZOFFSETFROM:+0000
TZOFFSETTO:+0100
TZNAME:BST
DTSTART:20180325T020000Z
RRULE:FREQ=YEARLY;BYMONTH=3;BYDAY=-1SU
END:DAYLIGHT
BEGIN:STANDARD
TZOFFSETFROM:+0100
TZOFFSETTO:+0000
TZNAME:GMT
DTSTART:20181028T020000Z
RRULE:FREQ=YEARLY;BYMONTH=10;BYDAY=-1SU
END:STANDARD
END:VTIMEZONE
BEGIN:VEVENT
SUMMARY:Fresh Off the Boat 4x15 - We Need to Talk About Evan
DTSTAMP:20180118T060606Z
SEQUENCE:0
UID:81503-2-841ebed20eb198c4569419e99b7bf40a@themidnightzone.com
ORGANIZER;CN="Midnight":midnight@themidnightzone.com
DESCRIPTION:Jessica pushes Evan to win Student of the Month so that she 
	canrub it in her new frenemy's face\, Amy Chestnut. When Evanbecomes overw
	helmed\, he starts seeing the school counselor\,much to Jessica's chagrin.
	 Louis feels like he is in KennyRogers' shadow and needs a way to put his 
	name back on theCattleman's Ranch map. Eddie and Emery decide it's time th
	eylearn how to unhook a bra.
DTSTART:20180131T013000Z
DTEND:20180131T020000Z
END:VEVENT
END:VCALENDAR
