BEGIN:VCALENDAR
VERSION:2.0
PRODID:-//InvisionCommunity Events 4.7.23//EN
METHOD:PUBLISH
CALSCALE:GREGORIAN
REFRESH-INTERVAL:PT15M
X-PUBLISHED-TTL:PT15M
X-WR-CALNAME:At My TV
NAME:At My TV
BEGIN:VTIMEZONE
TZID:Europe/London
TZURL:http://tzurl.org/zoneinfo/Europe/London
X-LIC-LOCATION:Europe/London
BEGIN:DAYLIGHT
TZOFFSETFROM:+0000
TZOFFSETTO:+0100
TZNAME:BST
DTSTART:20180325T020000Z
RRULE:FREQ=YEARLY;BYMONTH=3;BYDAY=-1SU
END:DAYLIGHT
BEGIN:STANDARD
TZOFFSETFROM:+0100
TZOFFSETTO:+0000
TZNAME:GMT
DTSTART:20181028T020000Z
RRULE:FREQ=YEARLY;BYMONTH=10;BYDAY=-1SU
END:STANDARD
END:VTIMEZONE
BEGIN:VEVENT
SUMMARY:The Grand Tour 2x8 - Blasts from the Past
DTSTAMP:20180118T060606Z
SEQUENCE:0
UID:81506-2-841ebed20eb198c4569419e99b7bf40a@themidnightzone.com
ORGANIZER;CN="Midnight":midnight@themidnightzone.com
DESCRIPTION:In this episode\, Jeremy Clarkson and Richard Hammond visits
	ome evocative old motorsport locations in Europe using a pairof re-born 19
	50s sports cars\, painstakingly rebuilt by theirmanufacturers to the origi
	nal designs. With Clarkson in theAston Martin DB4 GT lightweight and Hammo
	nd in the JaguarXKSS\, the pair start their adventure on the street circui
	t inPau\, France before their fun is interrupted by the arrival ofJames Ma
	y in a modern Honda Civic Type R which he insists isbetter in every way. A
	lso in this show\, Jeremy takes care ofsome unfinished business by track t
	esting the Ford GT firstseen on the road in episode 2. Plus\, Celebrity Fa
	ce Off findsthe world's fastest drummer from a band beginning with thelett
	er P as Stewart Copeland from The Police competes againstPink Floyd's Nick
	 Mason.
DTSTART:20180126T050000Z
DTEND:20180126T060000Z
END:VEVENT
END:VCALENDAR
