BEGIN:VCALENDAR
VERSION:2.0
PRODID:-//InvisionCommunity Events 4.7.23//EN
METHOD:PUBLISH
CALSCALE:GREGORIAN
REFRESH-INTERVAL:PT15M
X-PUBLISHED-TTL:PT15M
X-WR-CALNAME:At My TV
NAME:At My TV
BEGIN:VTIMEZONE
TZID:Europe/London
TZURL:http://tzurl.org/zoneinfo/Europe/London
X-LIC-LOCATION:Europe/London
BEGIN:DAYLIGHT
TZOFFSETFROM:+0000
TZOFFSETTO:+0100
TZNAME:BST
DTSTART:20180325T020000Z
RRULE:FREQ=YEARLY;BYMONTH=3;BYDAY=-1SU
END:DAYLIGHT
BEGIN:STANDARD
TZOFFSETFROM:+0100
TZOFFSETTO:+0000
TZNAME:GMT
DTSTART:20181028T020000Z
RRULE:FREQ=YEARLY;BYMONTH=10;BYDAY=-1SU
END:STANDARD
END:VTIMEZONE
BEGIN:VEVENT
SUMMARY:Take Me Out 10x4 - Episode 4
DTSTAMP:20180119T220609Z
SEQUENCE:0
UID:81622-2-841ebed20eb198c4569419e99b7bf40a@themidnightzone.com
ORGANIZER;CN="Midnight":midnight@themidnightzone.com
DESCRIPTION:Paddy McGuinness rustles up more dates for his 30 singleladi
	es. Braving the Love Lift in this episode are warehouseworker Lee from Wol
	verhampton\, musician Ryan from Leicester\,fitness blogger Cordell from Cr
	oydon\, and single dad Brianfrom Glasgow. There's also a chance to catch u
	p with the datingcouples from the last episode of the show on the Isle ofF
	ernando's.
DTSTART:20180127T184500Z
DTEND:20180127T200000Z
END:VEVENT
END:VCALENDAR
