BEGIN:VCALENDAR
VERSION:2.0
PRODID:-//InvisionCommunity Events 4.7.23//EN
METHOD:PUBLISH
CALSCALE:GREGORIAN
REFRESH-INTERVAL:PT15M
X-PUBLISHED-TTL:PT15M
X-WR-CALNAME:At My TV
NAME:At My TV
BEGIN:VTIMEZONE
TZID:Europe/London
TZURL:http://tzurl.org/zoneinfo/Europe/London
X-LIC-LOCATION:Europe/London
BEGIN:DAYLIGHT
TZOFFSETFROM:+0000
TZOFFSETTO:+0100
TZNAME:BST
DTSTART:20180325T020000Z
RRULE:FREQ=YEARLY;BYMONTH=3;BYDAY=-1SU
END:DAYLIGHT
BEGIN:STANDARD
TZOFFSETFROM:+0100
TZOFFSETTO:+0000
TZNAME:GMT
DTSTART:20181028T020000Z
RRULE:FREQ=YEARLY;BYMONTH=10;BYDAY=-1SU
END:STANDARD
END:VTIMEZONE
BEGIN:VEVENT
SUMMARY:Chicago Med 3x9 - On Shaky Ground
DTSTAMP:20180124T060604Z
SEQUENCE:0
UID:81801-2-841ebed20eb198c4569419e99b7bf40a@themidnightzone.com
ORGANIZER;CN="Midnight":midnight@themidnightzone.com
DESCRIPTION:After discovering that a patient's family might have beenabu
	sive\, Dr. Choi and April contemplate calling childservices. Dr. Manning a
	nd Dr. Halstead struggle to see eye toeye in guiding a family who is deali
	ng with their prematurebaby. Dr. Rhodes is persuaded into performing a ris
	ky surgeryon Dr. Bekker's mentor and world renowned surgeon\, Dr. MarvinJa
	ffrey. Meanwhile\, Dr. Reese joins Dr. Charles on a visit tothe Cook Count
	y jail.
DTSTART:20180207T030000Z
DTEND:20180207T040000Z
END:VEVENT
END:VCALENDAR
