BEGIN:VCALENDAR
VERSION:2.0
PRODID:-//InvisionCommunity Events 4.7.23//EN
METHOD:PUBLISH
CALSCALE:GREGORIAN
REFRESH-INTERVAL:PT15M
X-PUBLISHED-TTL:PT15M
X-WR-CALNAME:At My TV
NAME:At My TV
BEGIN:VTIMEZONE
TZID:Europe/London
TZURL:http://tzurl.org/zoneinfo/Europe/London
X-LIC-LOCATION:Europe/London
BEGIN:DAYLIGHT
TZOFFSETFROM:+0000
TZOFFSETTO:+0100
TZNAME:BST
DTSTART:20180325T020000Z
RRULE:FREQ=YEARLY;BYMONTH=3;BYDAY=-1SU
END:DAYLIGHT
BEGIN:STANDARD
TZOFFSETFROM:+0100
TZOFFSETTO:+0000
TZNAME:GMT
DTSTART:20181028T020000Z
RRULE:FREQ=YEARLY;BYMONTH=10;BYDAY=-1SU
END:STANDARD
END:VTIMEZONE
BEGIN:VEVENT
SUMMARY:The Middle 9x14 - Guess Who's Coming to Frozen Dinner
DTSTAMP:20180124T060606Z
SEQUENCE:0
UID:81818-2-841ebed20eb198c4569419e99b7bf40a@themidnightzone.com
ORGANIZER;CN="Midnight":midnight@themidnightzone.com
DESCRIPTION:Mike's wayward brother\, Rusty\, comes to town and presents 
	Suewith an extravagant gift\, which Mike thinks is stolen goods.Meanwhile\
	, with Sue now older and living the college life\,Mike feels like he's not
	 as close to her as he used to be andtries to figure out a way to reconnec
	t\; Axl blows the moneyfrom his first paycheck on a big screen TV and blam
	es hisspending spree on years of learning from Frankie's lack offinancial 
	wisdom\; and Brick is stumped\, but delighted todiscover mysterious\, unma
	rked gifts being left at the frontdoor of the house.
DTSTART:20180207T010000Z
DTEND:20180207T013000Z
END:VEVENT
END:VCALENDAR
