BEGIN:VCALENDAR
VERSION:2.0
PRODID:-//InvisionCommunity Events 4.7.23//EN
METHOD:PUBLISH
CALSCALE:GREGORIAN
REFRESH-INTERVAL:PT15M
X-PUBLISHED-TTL:PT15M
X-WR-CALNAME:At My TV
NAME:At My TV
BEGIN:VTIMEZONE
TZID:Europe/London
TZURL:http://tzurl.org/zoneinfo/Europe/London
X-LIC-LOCATION:Europe/London
BEGIN:DAYLIGHT
TZOFFSETFROM:+0000
TZOFFSETTO:+0100
TZNAME:BST
DTSTART:20180325T020000Z
RRULE:FREQ=YEARLY;BYMONTH=3;BYDAY=-1SU
END:DAYLIGHT
BEGIN:STANDARD
TZOFFSETFROM:+0100
TZOFFSETTO:+0000
TZNAME:GMT
DTSTART:20181028T020000Z
RRULE:FREQ=YEARLY;BYMONTH=10;BYDAY=-1SU
END:STANDARD
END:VTIMEZONE
BEGIN:VEVENT
SUMMARY:Saturday Night Live 43x13 - Natalie Portman / Dua Lipa
DTSTAMP:20180124T060606Z
SEQUENCE:0
UID:81824-2-841ebed20eb198c4569419e99b7bf40a@themidnightzone.com
ORGANIZER;CN="Midnight":midnight@themidnightzone.com
DESCRIPTION:Academy Award winner Natalie Portman returns for the secondt
	ime as host of \"Saturday Night Live\" on Feb. 3. Portman starsin the upco
	ming sci-fi thriller \"Annihilation\,\" set forrelease Feb. 23.Pop artist 
	Dua Lipa will join Portman asmusical guest for the first time. The critica
	lly acclaimedartist's self-titled debut album continues to top the chartss
	ince its release in 2017. Her global smash single \"New Rules\"has gone do
	uble platinum in the U.S. where it is currently top5 on the Top 40 chart.
DTSTART:20180204T042900Z
DTEND:20180204T055900Z
END:VEVENT
END:VCALENDAR
