BEGIN:VCALENDAR
VERSION:2.0
PRODID:-//InvisionCommunity Events 4.7.23//EN
METHOD:PUBLISH
CALSCALE:GREGORIAN
REFRESH-INTERVAL:PT15M
X-PUBLISHED-TTL:PT15M
X-WR-CALNAME:At My TV
NAME:At My TV
BEGIN:VTIMEZONE
TZID:Europe/London
TZURL:http://tzurl.org/zoneinfo/Europe/London
X-LIC-LOCATION:Europe/London
BEGIN:DAYLIGHT
TZOFFSETFROM:+0000
TZOFFSETTO:+0100
TZNAME:BST
DTSTART:20180325T020000Z
RRULE:FREQ=YEARLY;BYMONTH=3;BYDAY=-1SU
END:DAYLIGHT
BEGIN:STANDARD
TZOFFSETFROM:+0100
TZOFFSETTO:+0000
TZNAME:GMT
DTSTART:20181028T020000Z
RRULE:FREQ=YEARLY;BYMONTH=10;BYDAY=-1SU
END:STANDARD
END:VTIMEZONE
BEGIN:VEVENT
SUMMARY:The Graham Norton Show 22x17 - Saoirse Ronan\, Eric McCormac
	k\,Debra Messing\, Keala Settle
DTSTAMP:20180126T060604Z
SEQUENCE:0
UID:81916-2-841ebed20eb198c4569419e99b7bf40a@themidnightzone.com
ORGANIZER;CN="Midnight":midnight@themidnightzone.com
DESCRIPTION:Graham's guests include Saoirse Ronan\, Oscar-nominated for 
	herrole in Lady Bird\, Eric McCormack and Debra Messing who arereunited in
	 the new series of Will and Grace\, and Keala Settlewho performs the Oscar
	-nominated This is Me from The GreatestShowman.
DTSTART:20180209T223500Z
DTEND:20180209T232500Z
END:VEVENT
END:VCALENDAR
