BEGIN:VCALENDAR
VERSION:2.0
PRODID:-//InvisionCommunity Events 4.7.23//EN
METHOD:PUBLISH
CALSCALE:GREGORIAN
REFRESH-INTERVAL:PT15M
X-PUBLISHED-TTL:PT15M
X-WR-CALNAME:At My TV
NAME:At My TV
BEGIN:VTIMEZONE
TZID:Europe/London
TZURL:http://tzurl.org/zoneinfo/Europe/London
X-LIC-LOCATION:Europe/London
BEGIN:DAYLIGHT
TZOFFSETFROM:+0000
TZOFFSETTO:+0100
TZNAME:BST
DTSTART:20180325T020000Z
RRULE:FREQ=YEARLY;BYMONTH=3;BYDAY=-1SU
END:DAYLIGHT
BEGIN:STANDARD
TZOFFSETFROM:+0100
TZOFFSETTO:+0000
TZNAME:GMT
DTSTART:20181028T020000Z
RRULE:FREQ=YEARLY;BYMONTH=10;BYDAY=-1SU
END:STANDARD
END:VTIMEZONE
BEGIN:VEVENT
SUMMARY:The Grand Tour 2x10 - Oh\, Canada
DTSTAMP:20180203T060603Z
SEQUENCE:0
UID:82256-2-841ebed20eb198c4569419e99b7bf40a@themidnightzone.com
ORGANIZER;CN="Midnight":midnight@themidnightzone.com
DESCRIPTION:Jeremy Clarkson\, Richard Hammond and James May reluctantlya
	gree to test three SUVs in the rugged landscapes of Canada.Clarkson in the
	 Alfa Romeo Stelvio Quadrifoglio\, Hammond inthe Porsche Macan Turbo Perfo
	rmance Pack and May in the RangeRover Velar. The boys will test their cars
	' sporting side at arace track and their utilitarian side with some enormo
	us dogs\,before ending in an epic race across the snowy mountains. Alsoin 
	this show\, Jeremy embarks on a legally perilous test of theTesla Model X.
	 This will mark the first time we've seen himdrive a Tesla on-screen since
	 the controversial Roadster reviewin 2008. Plus\, Celebrity Face Off finds
	 the world's fastestgolf enthusiast as Rory McIlroy takes on Paris Hilton.
DTSTART:20180209T050000Z
DTEND:20180209T060000Z
END:VEVENT
END:VCALENDAR
