BEGIN:VCALENDAR
VERSION:2.0
PRODID:-//InvisionCommunity Events 4.7.23//EN
METHOD:PUBLISH
CALSCALE:GREGORIAN
REFRESH-INTERVAL:PT15M
X-PUBLISHED-TTL:PT15M
X-WR-CALNAME:At My TV
NAME:At My TV
BEGIN:VTIMEZONE
TZID:Europe/London
TZURL:http://tzurl.org/zoneinfo/Europe/London
X-LIC-LOCATION:Europe/London
BEGIN:DAYLIGHT
TZOFFSETFROM:+0000
TZOFFSETTO:+0100
TZNAME:BST
DTSTART:20180325T020000Z
RRULE:FREQ=YEARLY;BYMONTH=3;BYDAY=-1SU
END:DAYLIGHT
BEGIN:STANDARD
TZOFFSETFROM:+0100
TZOFFSETTO:+0000
TZNAME:GMT
DTSTART:20181028T020000Z
RRULE:FREQ=YEARLY;BYMONTH=10;BYDAY=-1SU
END:STANDARD
END:VTIMEZONE
BEGIN:VEVENT
SUMMARY:Call The Midwife 7x5 - Episode 5
DTSTAMP:20180204T060503Z
SEQUENCE:0
UID:82298-2-841ebed20eb198c4569419e99b7bf40a@themidnightzone.com
ORGANIZER;CN="Midnight":midnight@themidnightzone.com
DESCRIPTION:Trixie leaves Nonnatus House to stay with her godmother inPo
	rtofino. Lucille is on a mission to help Eunice Dobson\, anexpectant mothe
	r who is extremely distressed about herpregnancy. Lucille feels out of her
	 depth with Eunice'ssituation and asks Shelagh for help. She is determined
	 to breakthrough to this fearful mother\, but Eunice's condition is morese
	rious than first thought.
DTSTART:20180218T200000Z
DTEND:20180218T210000Z
END:VEVENT
END:VCALENDAR
