BEGIN:VCALENDAR
VERSION:2.0
PRODID:-//InvisionCommunity Events 4.7.23//EN
METHOD:PUBLISH
CALSCALE:GREGORIAN
REFRESH-INTERVAL:PT15M
X-PUBLISHED-TTL:PT15M
X-WR-CALNAME:At My TV
NAME:At My TV
BEGIN:VTIMEZONE
TZID:Europe/London
TZURL:http://tzurl.org/zoneinfo/Europe/London
X-LIC-LOCATION:Europe/London
BEGIN:DAYLIGHT
TZOFFSETFROM:+0000
TZOFFSETTO:+0100
TZNAME:BST
DTSTART:20180325T020000Z
RRULE:FREQ=YEARLY;BYMONTH=3;BYDAY=-1SU
END:DAYLIGHT
BEGIN:STANDARD
TZOFFSETFROM:+0100
TZOFFSETTO:+0000
TZNAME:GMT
DTSTART:20181028T020000Z
RRULE:FREQ=YEARLY;BYMONTH=10;BYDAY=-1SU
END:STANDARD
END:VTIMEZONE
BEGIN:VEVENT
SUMMARY:When Calls the Heart 5x1 - Believing
DTSTAMP:20180205T060508Z
SEQUENCE:0
UID:82382-2-841ebed20eb198c4569419e99b7bf40a@themidnightzone.com
ORGANIZER;CN="Midnight":midnight@themidnightzone.com
DESCRIPTION:Abigail leaves town to testify on behalf of Henry while Bill
	joins her\, but will testify against him. Abigail must convincea strict ju
	dge to give Henry a second chance but it seems likethe odds are against it
	. With Bill gone\, Lee is made actingsheriff and\, despite Rosemary's enco
	uragement\, isn'tconfident that he is up to the task. Still anxiously awai
	tingJack's return from the Northern Territories\, Elizabeth isgiven a dive
	rsion thanks to a surprise visit from her sister\,Julie\, who reveals to E
	lizabeth the surprising career pathshe's decided to take. Clara thinks it 
	may be time for a breakfrom Jesse but becomes jealous when she sees Jesse 
	spendingtime with Julie. Dr. Carson is determined to stop a travelingsales
	man selling a tonic that has caused a stomachache epidemicin town\, which 
	leads to a surprising arrest.
DTSTART:20180219T020000Z
DTEND:20180219T030000Z
END:VEVENT
END:VCALENDAR
