BEGIN:VCALENDAR
VERSION:2.0
PRODID:-//InvisionCommunity Events 4.7.23//EN
METHOD:PUBLISH
CALSCALE:GREGORIAN
REFRESH-INTERVAL:PT15M
X-PUBLISHED-TTL:PT15M
X-WR-CALNAME:At My TV
NAME:At My TV
BEGIN:VTIMEZONE
TZID:Europe/London
TZURL:http://tzurl.org/zoneinfo/Europe/London
X-LIC-LOCATION:Europe/London
BEGIN:DAYLIGHT
TZOFFSETFROM:+0000
TZOFFSETTO:+0100
TZNAME:BST
DTSTART:20180325T020000Z
RRULE:FREQ=YEARLY;BYMONTH=3;BYDAY=-1SU
END:DAYLIGHT
BEGIN:STANDARD
TZOFFSETFROM:+0100
TZOFFSETTO:+0000
TZNAME:GMT
DTSTART:20181028T020000Z
RRULE:FREQ=YEARLY;BYMONTH=10;BYDAY=-1SU
END:STANDARD
END:VTIMEZONE
BEGIN:VEVENT
SUMMARY:Worst Cooks in America 12x7 - Sausage Party
DTSTAMP:20180205T060508Z
SEQUENCE:0
UID:82383-2-841ebed20eb198c4569419e99b7bf40a@themidnightzone.com
ORGANIZER;CN="Midnight":midnight@themidnightzone.com
DESCRIPTION:Each team is given a scrambled recipe and the recruits have 
	towork together to figure out the correct order and make therecipe. The Ch
	efs tell the recruits they are being left alonein boot camp\, but unbeknow
	nst to them\, Anne Burrell and TylerFlorence secretly watch their every mo
	ve over CCTV. For themain dish challenge\, the recruits learn the truth of
	 sausagemaking. The tasting will be a potluck dinner\, so the recruitsmust
	 make sausages that impress both the Chefs and their fellowrecruits or ris
	k being eliminated.
DTSTART:20180219T020000Z
DTEND:20180219T030000Z
END:VEVENT
END:VCALENDAR
