BEGIN:VCALENDAR
VERSION:2.0
PRODID:-//InvisionCommunity Events 4.7.23//EN
METHOD:PUBLISH
CALSCALE:GREGORIAN
REFRESH-INTERVAL:PT15M
X-PUBLISHED-TTL:PT15M
X-WR-CALNAME:At My TV
NAME:At My TV
BEGIN:VTIMEZONE
TZID:Europe/London
TZURL:http://tzurl.org/zoneinfo/Europe/London
X-LIC-LOCATION:Europe/London
BEGIN:DAYLIGHT
TZOFFSETFROM:+0000
TZOFFSETTO:+0100
TZNAME:BST
DTSTART:20180325T020000Z
RRULE:FREQ=YEARLY;BYMONTH=3;BYDAY=-1SU
END:DAYLIGHT
BEGIN:STANDARD
TZOFFSETFROM:+0100
TZOFFSETTO:+0000
TZNAME:GMT
DTSTART:20181028T020000Z
RRULE:FREQ=YEARLY;BYMONTH=10;BYDAY=-1SU
END:STANDARD
END:VTIMEZONE
BEGIN:VEVENT
SUMMARY:Pawn Stars 15x19 - President's Day Sale
DTSTAMP:20180206T060505Z
SEQUENCE:0
UID:82403-2-841ebed20eb198c4569419e99b7bf40a@themidnightzone.com
ORGANIZER;CN="Midnight":midnight@themidnightzone.com
DESCRIPTION:Rick tries to snap up an autographed card of President Abrah
	amLincoln that he can't picture himself without. Corey and Chumthink about
	 offering big bills for a golf driver shaft designedfor President Bill Cli
	nton\, until they're fore-warned he maynot have used it. Rick checks out a
	 personal check signed byPresident James Madison that bounces into the sho
	p\, but willit clear his reservations? Later\, a patent model for anAmeric
	an flag press has Rick seeing stars and stripes\, butwill he pledge to buy
	 it?
DTSTART:20180220T030000Z
DTEND:20180220T033000Z
END:VEVENT
END:VCALENDAR
