BEGIN:VCALENDAR
VERSION:2.0
PRODID:-//InvisionCommunity Events 4.7.23//EN
METHOD:PUBLISH
CALSCALE:GREGORIAN
REFRESH-INTERVAL:PT15M
X-PUBLISHED-TTL:PT15M
X-WR-CALNAME:At My TV
NAME:At My TV
BEGIN:VTIMEZONE
TZID:Europe/London
TZURL:http://tzurl.org/zoneinfo/Europe/London
X-LIC-LOCATION:Europe/London
BEGIN:DAYLIGHT
TZOFFSETFROM:+0000
TZOFFSETTO:+0100
TZNAME:BST
DTSTART:20180325T020000Z
RRULE:FREQ=YEARLY;BYMONTH=3;BYDAY=-1SU
END:DAYLIGHT
BEGIN:STANDARD
TZOFFSETFROM:+0100
TZOFFSETTO:+0000
TZNAME:GMT
DTSTART:20181028T020000Z
RRULE:FREQ=YEARLY;BYMONTH=10;BYDAY=-1SU
END:STANDARD
END:VTIMEZONE
BEGIN:VEVENT
SUMMARY:Pawn Stars 15x20 - Fully Vested
DTSTAMP:20180206T060505Z
SEQUENCE:0
UID:82404-2-841ebed20eb198c4569419e99b7bf40a@themidnightzone.com
ORGANIZER;CN="Midnight":midnight@themidnightzone.com
DESCRIPTION:The Pawn Stars start off with a bang when a beautiful pair o
	f18th century breech-loading pistols breach the shop. Will theseguns hit t
	he bullseye or will they misfire? Things get heavywhen a seller brings in 
	a paperweight made by renowned glassartist Paul Stankard. A vest made to h
	old the 14 harmonicas ofBlues Traveler frontman John Popper is music to Ch
	um's ears\;Popper himself even pops into the shop to give Chum a harmonica
	lesson.
DTSTART:20180220T033000Z
DTEND:20180220T040000Z
END:VEVENT
END:VCALENDAR
