BEGIN:VCALENDAR
VERSION:2.0
PRODID:-//InvisionCommunity Events 4.7.23//EN
METHOD:PUBLISH
CALSCALE:GREGORIAN
REFRESH-INTERVAL:PT15M
X-PUBLISHED-TTL:PT15M
X-WR-CALNAME:At My TV
NAME:At My TV
BEGIN:VTIMEZONE
TZID:Europe/London
TZURL:http://tzurl.org/zoneinfo/Europe/London
X-LIC-LOCATION:Europe/London
BEGIN:DAYLIGHT
TZOFFSETFROM:+0000
TZOFFSETTO:+0100
TZNAME:BST
DTSTART:20180325T020000Z
RRULE:FREQ=YEARLY;BYMONTH=3;BYDAY=-1SU
END:DAYLIGHT
BEGIN:STANDARD
TZOFFSETFROM:+0100
TZOFFSETTO:+0000
TZNAME:GMT
DTSTART:20181028T020000Z
RRULE:FREQ=YEARLY;BYMONTH=10;BYDAY=-1SU
END:STANDARD
END:VTIMEZONE
BEGIN:VEVENT
SUMMARY:Kevin (Probably) Saves the World 1x14 - Old Friends
DTSTAMP:20180207T060505Z
SEQUENCE:0
UID:82434-2-841ebed20eb198c4569419e99b7bf40a@themidnightzone.com
ORGANIZER;CN="Midnight":midnight@themidnightzone.com
DESCRIPTION:Desperate to repair his friendship with Tyler\, Kevin enlist
	sthe help of Kristin to pull off a grand gesture to win himback. While wor
	king to do so\, his relationship with Kristindeepens\, and they meet a mys
	terious\, strange duo who arehiding out in the middle of nowhere. At the s
	ame time\, Kevintries to help Marc\, a young man who has left home in sear
	ch ofadventure\; and Yvette and Dave continue to struggle with humantenden
	cies.
DTSTART:20180221T030000Z
DTEND:20180221T040000Z
END:VEVENT
END:VCALENDAR
