BEGIN:VCALENDAR
VERSION:2.0
PRODID:-//InvisionCommunity Events 4.7.23//EN
METHOD:PUBLISH
CALSCALE:GREGORIAN
REFRESH-INTERVAL:PT15M
X-PUBLISHED-TTL:PT15M
X-WR-CALNAME:At My TV
NAME:At My TV
BEGIN:VTIMEZONE
TZID:Europe/London
TZURL:http://tzurl.org/zoneinfo/Europe/London
X-LIC-LOCATION:Europe/London
BEGIN:DAYLIGHT
TZOFFSETFROM:+0000
TZOFFSETTO:+0100
TZNAME:BST
DTSTART:20180325T020000Z
RRULE:FREQ=YEARLY;BYMONTH=3;BYDAY=-1SU
END:DAYLIGHT
BEGIN:STANDARD
TZOFFSETFROM:+0100
TZOFFSETTO:+0000
TZNAME:GMT
DTSTART:20181028T020000Z
RRULE:FREQ=YEARLY;BYMONTH=10;BYDAY=-1SU
END:STANDARD
END:VTIMEZONE
BEGIN:VEVENT
SUMMARY:Marcella 2x1 - Episode 1
DTSTAMP:20180207T060505Z
SEQUENCE:0
UID:82435-2-841ebed20eb198c4569419e99b7bf40a@themidnightzone.com
ORGANIZER;CN="Midnight":midnight@themidnightzone.com
DESCRIPTION:Five months after the events of the last series\, DS Marcell
	aBackland is called to a house where a workman has drilledthrough a wall a
	nd discovered an ear. When the wall is takendown\, Marcella is horrified t
	o discover that the ear belongedto Leo Priestley\, a 7-year old boy who's 
	been missing for fouryears and who knew her son. Leo was meant to walk hom
	e withEdward\, Marcella's son on the day he went missing.Leo'sdiscovery pu
	ts Marcella in confrontation with a previouslyconvicted child abuser\, Phi
	l Dawkins. Dawkins is open toMarcella about being a non-practising paedoph
	ile – his urgesare deemed unacceptable by society and he takes precautio
	ns tocontrol them. Following his release from prison he's tried tomove on 
	to an acceptable life but Marcella struggles to movepast Phil's admission.
DTSTART:20180219T210000Z
DTEND:20180219T220000Z
END:VEVENT
END:VCALENDAR
