BEGIN:VCALENDAR
VERSION:2.0
PRODID:-//InvisionCommunity Events 4.7.23//EN
METHOD:PUBLISH
CALSCALE:GREGORIAN
REFRESH-INTERVAL:PT15M
X-PUBLISHED-TTL:PT15M
X-WR-CALNAME:At My TV
NAME:At My TV
BEGIN:VTIMEZONE
TZID:Europe/London
TZURL:http://tzurl.org/zoneinfo/Europe/London
X-LIC-LOCATION:Europe/London
BEGIN:DAYLIGHT
TZOFFSETFROM:+0000
TZOFFSETTO:+0100
TZNAME:BST
DTSTART:20180325T020000Z
RRULE:FREQ=YEARLY;BYMONTH=3;BYDAY=-1SU
END:DAYLIGHT
BEGIN:STANDARD
TZOFFSETFROM:+0100
TZOFFSETTO:+0000
TZNAME:GMT
DTSTART:20181028T020000Z
RRULE:FREQ=YEARLY;BYMONTH=10;BYDAY=-1SU
END:STANDARD
END:VTIMEZONE
BEGIN:VEVENT
SUMMARY:Death In Paradise 7x8 - Episode 8
DTSTAMP:20180208T060504Z
SEQUENCE:0
UID:82452-2-841ebed20eb198c4569419e99b7bf40a@themidnightzone.com
ORGANIZER;CN="Midnight":midnight@themidnightzone.com
DESCRIPTION:When Billy Springer\, lead guitarist of a popular reggae ban
	d\,is murdered\, DI Mooney and his team must crack a cold casethat has hau
	nted the Commissioner for years\, before they canarrest the killer.After p
	erforming on stage as part of Leon AndThe Ragers 30-year reunion gig\, Bil
	ly is found dead momentslater in his dressing room.
DTSTART:20180222T210000Z
DTEND:20180222T220000Z
END:VEVENT
END:VCALENDAR
