BEGIN:VCALENDAR
VERSION:2.0
PRODID:-//InvisionCommunity Events 4.7.23//EN
METHOD:PUBLISH
CALSCALE:GREGORIAN
REFRESH-INTERVAL:PT15M
X-PUBLISHED-TTL:PT15M
X-WR-CALNAME:At My TV
NAME:At My TV
BEGIN:VTIMEZONE
TZID:Europe/London
TZURL:http://tzurl.org/zoneinfo/Europe/London
X-LIC-LOCATION:Europe/London
BEGIN:DAYLIGHT
TZOFFSETFROM:+0000
TZOFFSETTO:+0100
TZNAME:BST
DTSTART:20180325T020000Z
RRULE:FREQ=YEARLY;BYMONTH=3;BYDAY=-1SU
END:DAYLIGHT
BEGIN:STANDARD
TZOFFSETFROM:+0100
TZOFFSETTO:+0000
TZNAME:GMT
DTSTART:20181028T020000Z
RRULE:FREQ=YEARLY;BYMONTH=10;BYDAY=-1SU
END:STANDARD
END:VTIMEZONE
BEGIN:VEVENT
SUMMARY:The Graham Norton Show 22x19 - Compilation Show
DTSTAMP:20180210T060504Z
SEQUENCE:0
UID:82522-2-841ebed20eb198c4569419e99b7bf40a@themidnightzone.com
ORGANIZER;CN="Midnight":midnight@themidnightzone.com
DESCRIPTION:A compilation of highlights from the current series\, featur
	inga host of star guests: Will Smith\, Judi Dench\, Ryan Gosling\,Helen Mi
	rren\, Tom Cruise\, Kate Winslet\, Hillary Clinton\,Harrison Ford\, Jane F
	onda\, Idris Elba\, Margot Robbie\, HughJackman\, Elton John\, Emma Thomps
	on and Tom Hanks.
DTSTART:20180223T223500Z
DTEND:20180223T232500Z
END:VEVENT
END:VCALENDAR
