BEGIN:VCALENDAR
VERSION:2.0
PRODID:-//InvisionCommunity Events 4.7.23//EN
METHOD:PUBLISH
CALSCALE:GREGORIAN
REFRESH-INTERVAL:PT15M
X-PUBLISHED-TTL:PT15M
X-WR-CALNAME:At My TV
NAME:At My TV
BEGIN:VTIMEZONE
TZID:Europe/London
TZURL:http://tzurl.org/zoneinfo/Europe/London
X-LIC-LOCATION:Europe/London
BEGIN:DAYLIGHT
TZOFFSETFROM:+0000
TZOFFSETTO:+0100
TZNAME:BST
DTSTART:20180325T020000Z
RRULE:FREQ=YEARLY;BYMONTH=3;BYDAY=-1SU
END:DAYLIGHT
BEGIN:STANDARD
TZOFFSETFROM:+0100
TZOFFSETTO:+0000
TZNAME:GMT
DTSTART:20181028T020000Z
RRULE:FREQ=YEARLY;BYMONTH=10;BYDAY=-1SU
END:STANDARD
END:VTIMEZONE
BEGIN:VEVENT
SUMMARY:Take Me Out 10x8 - 10th Anniversary Special
DTSTAMP:20180210T060505Z
SEQUENCE:0
UID:82529-2-841ebed20eb198c4569419e99b7bf40a@themidnightzone.com
ORGANIZER;CN="Midnight":midnight@themidnightzone.com
DESCRIPTION:Paddy McGuinness celebrates the 10th anniversary of the smas
	hhit dating show in this one-off special. This episode featuresa very spec
	ial twist: it's thirty of Paddy's all-time favouritereturning boys behind 
	the lights and female celebrities thatare coming down the legendary Love L
	ift. TOWIE star Chloe Simsand Olympic gymnast Claudia Fragapane make 'Take
	 Me Out' datinghistory when they become the first-ever women to brave the 
	LoveLift in hope of winning a date to the Isle of Fernando's.
DTSTART:20180224T180000Z
DTEND:20180224T191500Z
END:VEVENT
END:VCALENDAR
