BEGIN:VCALENDAR
VERSION:2.0
PRODID:-//InvisionCommunity Events 4.7.23//EN
METHOD:PUBLISH
CALSCALE:GREGORIAN
REFRESH-INTERVAL:PT15M
X-PUBLISHED-TTL:PT15M
X-WR-CALNAME:At My TV
NAME:At My TV
BEGIN:VTIMEZONE
TZID:Europe/London
TZURL:http://tzurl.org/zoneinfo/Europe/London
X-LIC-LOCATION:Europe/London
BEGIN:DAYLIGHT
TZOFFSETFROM:+0000
TZOFFSETTO:+0100
TZNAME:BST
DTSTART:20180325T020000Z
RRULE:FREQ=YEARLY;BYMONTH=3;BYDAY=-1SU
END:DAYLIGHT
BEGIN:STANDARD
TZOFFSETFROM:+0100
TZOFFSETTO:+0000
TZNAME:GMT
DTSTART:20181028T020000Z
RRULE:FREQ=YEARLY;BYMONTH=10;BYDAY=-1SU
END:STANDARD
END:VTIMEZONE
BEGIN:VEVENT
SUMMARY:Worst Cooks in America 12x8 - Can You Pleas Pas-Ta Sauce?
DTSTAMP:20180212T060506Z
SEQUENCE:0
UID:82581-2-841ebed20eb198c4569419e99b7bf40a@themidnightzone.com
ORGANIZER;CN="Midnight":midnight@themidnightzone.com
DESCRIPTION:The remaining recruits are put to the test by playing \"Remo
	teControl Chef\,\" in which they must taste a dish put in front ofthem and
	 describe it to Anne Burrell and Tyler Florence torecreate. For the main d
	ish challenge the recruits tackle theirmost difficult task yet\, making fr
	esh pasta from scratch. Therecruits have the guidance of two very special 
	guests to helpthem with their cooking\, Italian nonnas with years of pasta
	making experience. The top recruits earn a spot in thesemi-finals next wee
	k.
DTSTART:20180226T020000Z
DTEND:20180226T030000Z
END:VEVENT
END:VCALENDAR
