BEGIN:VCALENDAR
VERSION:2.0
PRODID:-//InvisionCommunity Events 4.7.23//EN
METHOD:PUBLISH
CALSCALE:GREGORIAN
REFRESH-INTERVAL:PT15M
X-PUBLISHED-TTL:PT15M
X-WR-CALNAME:At My TV
NAME:At My TV
BEGIN:VTIMEZONE
TZID:Europe/London
TZURL:http://tzurl.org/zoneinfo/Europe/London
X-LIC-LOCATION:Europe/London
BEGIN:DAYLIGHT
TZOFFSETFROM:+0000
TZOFFSETTO:+0100
TZNAME:BST
DTSTART:20180325T020000Z
RRULE:FREQ=YEARLY;BYMONTH=3;BYDAY=-1SU
END:DAYLIGHT
BEGIN:STANDARD
TZOFFSETFROM:+0100
TZOFFSETTO:+0000
TZNAME:GMT
DTSTART:20181028T020000Z
RRULE:FREQ=YEARLY;BYMONTH=10;BYDAY=-1SU
END:STANDARD
END:VTIMEZONE
BEGIN:VEVENT
SUMMARY:The Resident 1x5 - None the Wiser
DTSTAMP:20180213T060503Z
SEQUENCE:0
UID:82615-2-841ebed20eb198c4569419e99b7bf40a@themidnightzone.com
ORGANIZER;CN="Midnight":midnight@themidnightzone.com
DESCRIPTION:Three concurrent surgeries at the hospital push its staff to
	the limits. Determined to ease the pressure\, Nic requests Judefor one of 
	the operations\, making Conrad jealous. Meanwhile\,Dr. Lane Hunter sets ou
	t to discredit Nic's claims\, Devonstruggles with a patient who has an emb
	arrassing problem and acharitable contributor comes to the hospital wantin
	g to donatea lot of money to Dr. Lane's oncology program.
DTSTART:20180227T020000Z
DTEND:20180227T030000Z
END:VEVENT
END:VCALENDAR
