BEGIN:VCALENDAR
VERSION:2.0
PRODID:-//InvisionCommunity Events 4.7.23//EN
METHOD:PUBLISH
CALSCALE:GREGORIAN
REFRESH-INTERVAL:PT15M
X-PUBLISHED-TTL:PT15M
X-WR-CALNAME:At My TV
NAME:At My TV
BEGIN:VTIMEZONE
TZID:Europe/London
TZURL:http://tzurl.org/zoneinfo/Europe/London
X-LIC-LOCATION:Europe/London
BEGIN:DAYLIGHT
TZOFFSETFROM:+0000
TZOFFSETTO:+0100
TZNAME:BST
DTSTART:20180325T020000Z
RRULE:FREQ=YEARLY;BYMONTH=3;BYDAY=-1SU
END:DAYLIGHT
BEGIN:STANDARD
TZOFFSETFROM:+0100
TZOFFSETTO:+0000
TZNAME:GMT
DTSTART:20181028T020000Z
RRULE:FREQ=YEARLY;BYMONTH=10;BYDAY=-1SU
END:STANDARD
END:VTIMEZONE
BEGIN:VEVENT
SUMMARY:Superior Donuts 2x13 - Father\, Son and Holy Goats
DTSTAMP:20180213T060503Z
SEQUENCE:0
UID:82624-2-841ebed20eb198c4569419e99b7bf40a@themidnightzone.com
ORGANIZER;CN="Midnight":midnight@themidnightzone.com
DESCRIPTION:When Arthur hires Fawz's son\, Abe\, at the shop\, Francoenc
	ourages the aspiring DJ to skip college and follow his dream– even thoug
	h that's Fawz's worst nightmare. Also\, Sofiamust contend with unruly goat
	s and other unexpected challengeswhile organizing the Uptown Winter Carniv
	al\, her first bigevent as the business council's new president.
DTSTART:20180227T020000Z
DTEND:20180227T023000Z
END:VEVENT
END:VCALENDAR
