BEGIN:VCALENDAR
VERSION:2.0
PRODID:-//InvisionCommunity Events 4.7.23//EN
METHOD:PUBLISH
CALSCALE:GREGORIAN
REFRESH-INTERVAL:PT15M
X-PUBLISHED-TTL:PT15M
X-WR-CALNAME:At My TV
NAME:At My TV
BEGIN:VTIMEZONE
TZID:Europe/London
TZURL:http://tzurl.org/zoneinfo/Europe/London
X-LIC-LOCATION:Europe/London
BEGIN:DAYLIGHT
TZOFFSETFROM:+0000
TZOFFSETTO:+0100
TZNAME:BST
DTSTART:20180325T020000Z
RRULE:FREQ=YEARLY;BYMONTH=3;BYDAY=-1SU
END:DAYLIGHT
BEGIN:STANDARD
TZOFFSETFROM:+0100
TZOFFSETTO:+0000
TZNAME:GMT
DTSTART:20181028T020000Z
RRULE:FREQ=YEARLY;BYMONTH=10;BYDAY=-1SU
END:STANDARD
END:VTIMEZONE
BEGIN:VEVENT
SUMMARY:Chicago Med 3x10 - Down By Law
DTSTAMP:20180214T060503Z
SEQUENCE:0
UID:82673-2-841ebed20eb198c4569419e99b7bf40a@themidnightzone.com
ORGANIZER;CN="Midnight":midnight@themidnightzone.com
DESCRIPTION:After witnessing a drive-by shooting and hitting her head\, 
	Dr.Manning struggles with the aftermath of a head injury.Complicating matt
	ers\, she and Dr. Halstead deal with a teenagepatient and her overbearing 
	older husband\, who might not belooking out for his young wife's best inte
	rests. Dr. Rhodesfinds himself in a unique situation when he learns alarmi
	nginformation about the woman he went on a date with. Maggie issurprised t
	o discover some unexpected things about the man shehas been seeing. Dr. Ch
	arles is frustrated when Dr. Reesedisobeys his orders and puts herself at 
	risk.
DTSTART:20180228T030000Z
DTEND:20180228T040000Z
END:VEVENT
END:VCALENDAR
