BEGIN:VCALENDAR
VERSION:2.0
PRODID:-//InvisionCommunity Events 4.7.23//EN
METHOD:PUBLISH
CALSCALE:GREGORIAN
REFRESH-INTERVAL:PT15M
X-PUBLISHED-TTL:PT15M
X-WR-CALNAME:At My TV
NAME:At My TV
BEGIN:VTIMEZONE
TZID:Europe/London
TZURL:http://tzurl.org/zoneinfo/Europe/London
X-LIC-LOCATION:Europe/London
BEGIN:DAYLIGHT
TZOFFSETFROM:+0000
TZOFFSETTO:+0100
TZNAME:BST
DTSTART:20180325T020000Z
RRULE:FREQ=YEARLY;BYMONTH=3;BYDAY=-1SU
END:DAYLIGHT
BEGIN:STANDARD
TZOFFSETFROM:+0100
TZOFFSETTO:+0000
TZNAME:GMT
DTSTART:20181028T020000Z
RRULE:FREQ=YEARLY;BYMONTH=10;BYDAY=-1SU
END:STANDARD
END:VTIMEZONE
BEGIN:VEVENT
SUMMARY:Kevin (Probably) Saves the World 1x15 - World's Worst Domino
DTSTAMP:20180214T060503Z
SEQUENCE:0
UID:82687-2-841ebed20eb198c4569419e99b7bf40a@themidnightzone.com
ORGANIZER;CN="Midnight":midnight@themidnightzone.com
DESCRIPTION:Feeling guilty about the role he played in getting the forme
	rhigh school security guard fired\, Kevin looks to help Beckyfollow her tr
	ue passion: inventing. With Amy and Tyler'sassistance\, they enter Becky's
	 newest invention into a localEntrepreneur Expo with hilarious results. Me
	anwhile\, Yvette isforced to come to terms with Dave's disappearance.
DTSTART:20180228T030000Z
DTEND:20180228T040000Z
END:VEVENT
END:VCALENDAR
