BEGIN:VCALENDAR
VERSION:2.0
PRODID:-//InvisionCommunity Events 4.7.23//EN
METHOD:PUBLISH
CALSCALE:GREGORIAN
REFRESH-INTERVAL:PT15M
X-PUBLISHED-TTL:PT15M
X-WR-CALNAME:At My TV
NAME:At My TV
BEGIN:VTIMEZONE
TZID:Europe/London
TZURL:http://tzurl.org/zoneinfo/Europe/London
X-LIC-LOCATION:Europe/London
BEGIN:DAYLIGHT
TZOFFSETFROM:+0000
TZOFFSETTO:+0100
TZNAME:BST
DTSTART:20180325T020000Z
RRULE:FREQ=YEARLY;BYMONTH=3;BYDAY=-1SU
END:DAYLIGHT
BEGIN:STANDARD
TZOFFSETFROM:+0100
TZOFFSETTO:+0000
TZNAME:GMT
DTSTART:20181028T020000Z
RRULE:FREQ=YEARLY;BYMONTH=10;BYDAY=-1SU
END:STANDARD
END:VTIMEZONE
BEGIN:VEVENT
SUMMARY:Pawn Stars 15x23 - In the Presence of Greatness
DTSTAMP:20180220T060408Z
SEQUENCE:0
UID:82944-2-841ebed20eb198c4569419e99b7bf40a@themidnightzone.com
ORGANIZER;CN="Midnight":midnight@themidnightzone.com
DESCRIPTION:Rick and Chum grapple with a Batman utility belt toy from th
	e1960s. Will they be hooked into buying it? A gorgeous Mosriteelectric gui
	tar shocks everyone at the shop\, but will Coreyand the seller be in tune 
	when it comes to making a deal? Rickcontinues his hunt for \"The Object\,\
	" an item featured in thealbum art for Led Zeppelin's album \"Presence.\" 
	When one that'sfor sale ends up on his counter\, can he be objective about
	this object of his desire? Later\, an autograph book signed by41 comic boo
	k artists draws Corey's attention. Will he sign onthe dotted line after dr
	awn out negotiations?
DTSTART:20180306T033000Z
DTEND:20180306T040000Z
END:VEVENT
END:VCALENDAR
