BEGIN:VCALENDAR
VERSION:2.0
PRODID:-//InvisionCommunity Events 4.7.23//EN
METHOD:PUBLISH
CALSCALE:GREGORIAN
REFRESH-INTERVAL:PT15M
X-PUBLISHED-TTL:PT15M
X-WR-CALNAME:Pogdesign
NAME:Pogdesign
BEGIN:VTIMEZONE
TZID:Europe/London
TZURL:http://tzurl.org/zoneinfo/Europe/London
X-LIC-LOCATION:Europe/London
BEGIN:DAYLIGHT
TZOFFSETFROM:+0000
TZOFFSETTO:+0100
TZNAME:BST
DTSTART:20180325T020000Z
RRULE:FREQ=YEARLY;BYMONTH=3;BYDAY=-1SU
END:DAYLIGHT
BEGIN:STANDARD
TZOFFSETFROM:+0100
TZOFFSETTO:+0000
TZNAME:GMT
DTSTART:20181028T020000Z
RRULE:FREQ=YEARLY;BYMONTH=10;BYDAY=-1SU
END:STANDARD
END:VTIMEZONE
BEGIN:VEVENT
SUMMARY:NCIS: Los Angeles 9x14 - Goodbye\, Vietnam
DTSTAMP:20180226T100400Z
SEQUENCE:0
UID:83300-3-841ebed20eb198c4569419e99b7bf40a@themidnightzone.com
ORGANIZER;CN="Midnight":midnight@themidnightzone.com
DESCRIPTION:Callen\, Sam\, Kensi and Deeks join Hetty's team from theVie
	tnam War\, Sterling Bridges\, A.J. Chegwidden and CharlesLangston\, in a d
	angerous and off-the-books rescue mission tosave Hetty from her captors in
	 Vietnam. Also\, Mosley calls inNell's sister\, homeland security speciali
	st Sydney Jones\, toassist the team in Los Angeles with processing evidenc
	econnected to Hetty's time in Vietnam.
DTSTART:20180311T210000Z
DTEND:20180311T220000Z
END:VEVENT
END:VCALENDAR
