BEGIN:VCALENDAR
VERSION:2.0
PRODID:-//InvisionCommunity Events 4.7.23//EN
METHOD:PUBLISH
CALSCALE:GREGORIAN
REFRESH-INTERVAL:PT15M
X-PUBLISHED-TTL:PT15M
X-WR-CALNAME:Pogdesign
NAME:Pogdesign
BEGIN:VTIMEZONE
TZID:Europe/London
TZURL:http://tzurl.org/zoneinfo/Europe/London
X-LIC-LOCATION:Europe/London
BEGIN:DAYLIGHT
TZOFFSETFROM:+0000
TZOFFSETTO:+0100
TZNAME:BST
DTSTART:20180325T020000Z
RRULE:FREQ=YEARLY;BYMONTH=3;BYDAY=-1SU
END:DAYLIGHT
BEGIN:STANDARD
TZOFFSETFROM:+0100
TZOFFSETTO:+0000
TZNAME:GMT
DTSTART:20181028T020000Z
RRULE:FREQ=YEARLY;BYMONTH=10;BYDAY=-1SU
END:STANDARD
END:VTIMEZONE
BEGIN:VEVENT
SUMMARY:Fresh Off the Boat 4x19 - King in the North
DTSTAMP:20180304T100401Z
SEQUENCE:0
UID:83611-3-841ebed20eb198c4569419e99b7bf40a@themidnightzone.com
ORGANIZER;CN="Midnight":midnight@themidnightzone.com
DESCRIPTION:Honey plans a relaxing vacation before the baby comes\, butJ
	essica turns the trip into a crazy quest to get Stephen King'sendorsement 
	for her novel. When Grandma Huang decides to moveout\, Louis panics and do
	es everything he can to make sure sheknows how welcome she is. Meanwhile\,
	 Eddie\, Nicole and theirfriends plan to wear matching suits to the school
	 dance until adress code demands that the girls must wear dresses\, leadin
	gEddie and Nicole to rebel.
DTSTART:20180320T203000Z
DTEND:20180320T210000Z
END:VEVENT
END:VCALENDAR
