BEGIN:VCALENDAR
VERSION:2.0
PRODID:-//InvisionCommunity Events 4.7.23//EN
METHOD:PUBLISH
CALSCALE:GREGORIAN
REFRESH-INTERVAL:PT15M
X-PUBLISHED-TTL:PT15M
X-WR-CALNAME:At My TV
NAME:At My TV
BEGIN:VTIMEZONE
TZID:Europe/London
TZURL:http://tzurl.org/zoneinfo/Europe/London
X-LIC-LOCATION:Europe/London
BEGIN:DAYLIGHT
TZOFFSETFROM:+0000
TZOFFSETTO:+0100
TZNAME:BST
DTSTART:20180325T020000Z
RRULE:FREQ=YEARLY;BYMONTH=3;BYDAY=-1SU
END:DAYLIGHT
BEGIN:STANDARD
TZOFFSETFROM:+0100
TZOFFSETTO:+0000
TZNAME:GMT
DTSTART:20181028T020000Z
RRULE:FREQ=YEARLY;BYMONTH=10;BYDAY=-1SU
END:STANDARD
END:VTIMEZONE
BEGIN:VEVENT
SUMMARY:Shetland 4x6 - Episode 6
DTSTAMP:20180306T060407Z
SEQUENCE:0
UID:83729-2-841ebed20eb198c4569419e99b7bf40a@themidnightzone.com
ORGANIZER;CN="Midnight":midnight@themidnightzone.com
DESCRIPTION:Troubled by historical DNA evidence results\, Jimmy has to f
	acethe fact that Duncan may have been involved in Lizzie Kilmuir'smurder\,
	 and potentially Sally McColl's as well. A shockedDuncan is brought to the
	 station for questioning\, hurt thatPerez would even think him capable of 
	murder. However\, thedetective knows Duncan's lying - perhaps not about th
	e murder\,but about something else significant. So when Duncan finallyadmi
	ts he had an affair with Donna\, it's not long before abombshell is droppe
	d.
DTSTART:20180320T210000Z
DTEND:20180320T220000Z
END:VEVENT
END:VCALENDAR
