BEGIN:VCALENDAR
VERSION:2.0
PRODID:-//InvisionCommunity Events 4.7.23//EN
METHOD:PUBLISH
CALSCALE:GREGORIAN
REFRESH-INTERVAL:PT15M
X-PUBLISHED-TTL:PT15M
X-WR-CALNAME:At My TV
NAME:At My TV
BEGIN:VTIMEZONE
TZID:Europe/London
TZURL:http://tzurl.org/zoneinfo/Europe/London
X-LIC-LOCATION:Europe/London
BEGIN:DAYLIGHT
TZOFFSETFROM:+0000
TZOFFSETTO:+0100
TZNAME:BST
DTSTART:20180325T020000Z
RRULE:FREQ=YEARLY;BYMONTH=3;BYDAY=-1SU
END:DAYLIGHT
BEGIN:STANDARD
TZOFFSETFROM:+0100
TZOFFSETTO:+0000
TZNAME:GMT
DTSTART:20181028T020000Z
RRULE:FREQ=YEARLY;BYMONTH=10;BYDAY=-1SU
END:STANDARD
END:VTIMEZONE
BEGIN:VEVENT
SUMMARY:The Durrells 3x1 - Episode 1
DTSTAMP:20180307T060403Z
SEQUENCE:0
UID:83777-2-841ebed20eb198c4569419e99b7bf40a@themidnightzone.com
ORGANIZER;CN="Midnight":midnight@themidnightzone.com
DESCRIPTION:Larry is furious over the reception of his last novel and Ma
	rgois bored out of her mind so has taken up soap sculpting as ahobby\, whi
	lst Gerry is trying his best to keep his animalfamily growing despite his 
	mother's best efforts. However\,it's Leslie who Louisa is desperately worr
	ied about when shediscovers that he is seeing three different girls… at 
	thesame time. Concerned that Leslie will get hurt\, Louisa takesit upon he
	rself to help him decide who he should pick byvisiting each of the girls. 
	However\, will all of the familymembers having an opinion\, Leslie is face
	d with an awkwarddilemma.
DTSTART:20180318T200000Z
DTEND:20180318T210000Z
END:VEVENT
END:VCALENDAR
