BEGIN:VCALENDAR
VERSION:2.0
PRODID:-//InvisionCommunity Events 4.7.23//EN
METHOD:PUBLISH
CALSCALE:GREGORIAN
REFRESH-INTERVAL:PT15M
X-PUBLISHED-TTL:PT15M
X-WR-CALNAME:At My TV
NAME:At My TV
BEGIN:VTIMEZONE
TZID:Europe/London
TZURL:http://tzurl.org/zoneinfo/Europe/London
X-LIC-LOCATION:Europe/London
BEGIN:DAYLIGHT
TZOFFSETFROM:+0000
TZOFFSETTO:+0100
TZNAME:BST
DTSTART:20180325T020000Z
RRULE:FREQ=YEARLY;BYMONTH=3;BYDAY=-1SU
END:DAYLIGHT
BEGIN:STANDARD
TZOFFSETFROM:+0100
TZOFFSETTO:+0000
TZNAME:GMT
DTSTART:20181028T020000Z
RRULE:FREQ=YEARLY;BYMONTH=10;BYDAY=-1SU
END:STANDARD
END:VTIMEZONE
BEGIN:VEVENT
SUMMARY:Riverdale 2x16 - Chapter Twenty-Nine: Primary Colors
DTSTAMP:20180308T060406Z
SEQUENCE:0
UID:83838-2-841ebed20eb198c4569419e99b7bf40a@themidnightzone.com
ORGANIZER;CN="Midnight":midnight@themidnightzone.com
DESCRIPTION:In the aftermath of Hiram's newly announced plans forRiverda
	le\, Jughead resorts to drastic measures to voice hisopposition. After mak
	ing her own big announcement\, Hermione'sfriend Andy Cohen comes to town t
	o lend a hand. Meanwhile\,Veronica goes against her parent's wishes to kee
	p a low profilewhen she decides to run for student council president.Elsew
	here\, Mary arrives in Riverdale just as tensions betweenFred and Archie r
	each a breaking point. Finally\, following aseries of mysterious events\, 
	Cheryl begins to fear thatsomeone is out to get her.
DTSTART:20180322T000000Z
DTEND:20180322T010000Z
END:VEVENT
END:VCALENDAR
