BEGIN:VCALENDAR
VERSION:2.0
PRODID:-//InvisionCommunity Events 4.7.23//EN
METHOD:PUBLISH
CALSCALE:GREGORIAN
REFRESH-INTERVAL:PT15M
X-PUBLISHED-TTL:PT15M
X-WR-CALNAME:At My TV
NAME:At My TV
BEGIN:VTIMEZONE
TZID:Europe/London
TZURL:http://tzurl.org/zoneinfo/Europe/London
X-LIC-LOCATION:Europe/London
BEGIN:DAYLIGHT
TZOFFSETFROM:+0000
TZOFFSETTO:+0100
TZNAME:BST
DTSTART:20180325T020000Z
RRULE:FREQ=YEARLY;BYMONTH=3;BYDAY=-1SU
END:DAYLIGHT
BEGIN:STANDARD
TZOFFSETFROM:+0100
TZOFFSETTO:+0000
TZNAME:GMT
DTSTART:20181028T020000Z
RRULE:FREQ=YEARLY;BYMONTH=10;BYDAY=-1SU
END:STANDARD
END:VTIMEZONE
BEGIN:VEVENT
SUMMARY:Chicago Fire 6x14 - Looking for a Lifeline
DTSTAMP:20180309T060405Z
SEQUENCE:0
UID:83879-2-841ebed20eb198c4569419e99b7bf40a@themidnightzone.com
ORGANIZER;CN="Midnight":midnight@themidnightzone.com
DESCRIPTION:After responding to a car accident\, Casey and Dawson become
	skeptical when a domineering husband continues to answer forhis injured wi
	fe. Cruz becomes frustrated with Herrmann andMouch when he discovers they 
	have contacted people regardinghis \"Slamigan\" invention without his know
	ledge. Kidd uncoverssomething meaningful and important to Severide while B
	rettdiscovers some potentially unsettling news.
DTSTART:20180323T010000Z
DTEND:20180323T020000Z
END:VEVENT
END:VCALENDAR
