BEGIN:VCALENDAR
VERSION:2.0
PRODID:-//InvisionCommunity Events 4.7.23//EN
METHOD:PUBLISH
CALSCALE:GREGORIAN
REFRESH-INTERVAL:PT15M
X-PUBLISHED-TTL:PT15M
X-WR-CALNAME:At My TV
NAME:At My TV
BEGIN:VTIMEZONE
TZID:Europe/London
TZURL:http://tzurl.org/zoneinfo/Europe/London
X-LIC-LOCATION:Europe/London
BEGIN:DAYLIGHT
TZOFFSETFROM:+0000
TZOFFSETTO:+0100
TZNAME:BST
DTSTART:20180325T020000Z
RRULE:FREQ=YEARLY;BYMONTH=3;BYDAY=-1SU
END:DAYLIGHT
BEGIN:STANDARD
TZOFFSETFROM:+0100
TZOFFSETTO:+0000
TZNAME:GMT
DTSTART:20181028T020000Z
RRULE:FREQ=YEARLY;BYMONTH=10;BYDAY=-1SU
END:STANDARD
END:VTIMEZONE
BEGIN:VEVENT
SUMMARY:Modern Family 9x17 - Royal Visit
DTSTAMP:20180315T060409Z
SEQUENCE:0
UID:84174-2-841ebed20eb198c4569419e99b7bf40a@themidnightzone.com
ORGANIZER;CN="Midnight":midnight@themidnightzone.com
DESCRIPTION:Haley's brilliant astrophysicist boyfriend comes to meet the
	family\, setting Claire and Phil off in a competition aboutwhich one of th
	em is smarter\, making Alex feel self-consciousabout her dim but handsome 
	firefighter boyfriend\, Bill. Mitchand Cam go on a yoga retreat\, but when
	 Cam finds out his dreamteam\, the Kansas City Royals\, is having spring t
	raining nextdoor\, he can't resist sneaking out.
DTSTART:20180329T010000Z
DTEND:20180329T013000Z
END:VEVENT
END:VCALENDAR
