BEGIN:VCALENDAR
VERSION:2.0
PRODID:-//InvisionCommunity Events 4.7.23//EN
METHOD:PUBLISH
CALSCALE:GREGORIAN
REFRESH-INTERVAL:PT15M
X-PUBLISHED-TTL:PT15M
X-WR-CALNAME:At My TV
NAME:At My TV
BEGIN:VTIMEZONE
TZID:Europe/London
TZURL:http://tzurl.org/zoneinfo/Europe/London
X-LIC-LOCATION:Europe/London
BEGIN:DAYLIGHT
TZOFFSETFROM:+0000
TZOFFSETTO:+0100
TZNAME:BST
DTSTART:20180325T020000Z
RRULE:FREQ=YEARLY;BYMONTH=3;BYDAY=-1SU
END:DAYLIGHT
BEGIN:STANDARD
TZOFFSETFROM:+0100
TZOFFSETTO:+0000
TZNAME:GMT
DTSTART:20181028T020000Z
RRULE:FREQ=YEARLY;BYMONTH=10;BYDAY=-1SU
END:STANDARD
END:VTIMEZONE
BEGIN:VEVENT
SUMMARY:Riverdale 2x17 - Chapter Thirty: The Noose Tightens
DTSTAMP:20180315T060409Z
SEQUENCE:0
UID:84181-2-841ebed20eb198c4569419e99b7bf40a@themidnightzone.com
ORGANIZER;CN="Midnight":midnight@themidnightzone.com
DESCRIPTION:Just as the town's mayoral race gets underway\, RiverdaleHig
	h's own student council election heats up. Archie steps upto help after le
	arning that Hiram's mobster associates havecome to Riverdale to stir up so
	me trouble. Meanwhile\, thingstake a dangerous turn for Alice\, Betty and 
	Chic when anunexpected guest shows up at the Cooper residence. Finally\,To
	ni\, Veronica and Josie team up to solve a strange mysteryinvolving Cheryl
	.
DTSTART:20180329T000000Z
DTEND:20180329T010000Z
END:VEVENT
END:VCALENDAR
