BEGIN:VCALENDAR
VERSION:2.0
PRODID:-//InvisionCommunity Events 4.7.23//EN
METHOD:PUBLISH
CALSCALE:GREGORIAN
REFRESH-INTERVAL:PT15M
X-PUBLISHED-TTL:PT15M
X-WR-CALNAME:At My TV
NAME:At My TV
BEGIN:VTIMEZONE
TZID:Europe/London
TZURL:http://tzurl.org/zoneinfo/Europe/London
X-LIC-LOCATION:Europe/London
BEGIN:DAYLIGHT
TZOFFSETFROM:+0000
TZOFFSETTO:+0100
TZNAME:BST
DTSTART:20180325T020000Z
RRULE:FREQ=YEARLY;BYMONTH=3;BYDAY=-1SU
END:DAYLIGHT
BEGIN:STANDARD
TZOFFSETFROM:+0100
TZOFFSETTO:+0000
TZNAME:GMT
DTSTART:20181028T020000Z
RRULE:FREQ=YEARLY;BYMONTH=10;BYDAY=-1SU
END:STANDARD
END:VTIMEZONE
BEGIN:VEVENT
SUMMARY:Dara O Briain's Go 8 Bit 3x8 - Kevin Bridges vs. NatasiaDeme
	triou
DTSTAMP:20180319T060404Z
SEQUENCE:0
UID:84332-2-841ebed20eb198c4569419e99b7bf40a@themidnightzone.com
ORGANIZER;CN="Midnight":midnight@themidnightzone.com
DESCRIPTION:Comedians Kevin Bridges and Natasia Demetriou join Dara andE
	llie to play five video games: Joust\, Plants vs ZombiesGarden Warfare 2\,
	 Tekken\, Can't Drive This and specialendgame Noah Me\, Noah You in a bid 
	to become this week's Go 8Bit Champions.
DTSTART:20180402T210000Z
DTEND:20180402T220000Z
END:VEVENT
END:VCALENDAR
