BEGIN:VCALENDAR
VERSION:2.0
PRODID:-//InvisionCommunity Events 4.7.23//EN
METHOD:PUBLISH
CALSCALE:GREGORIAN
REFRESH-INTERVAL:PT15M
X-PUBLISHED-TTL:PT15M
X-WR-CALNAME:At My TV
NAME:At My TV
BEGIN:VTIMEZONE
TZID:Europe/London
TZURL:http://tzurl.org/zoneinfo/Europe/London
X-LIC-LOCATION:Europe/London
BEGIN:DAYLIGHT
TZOFFSETFROM:+0000
TZOFFSETTO:+0100
TZNAME:BST
DTSTART:20180325T020000Z
RRULE:FREQ=YEARLY;BYMONTH=3;BYDAY=-1SU
END:DAYLIGHT
BEGIN:STANDARD
TZOFFSETFROM:+0100
TZOFFSETTO:+0000
TZNAME:GMT
DTSTART:20181028T020000Z
RRULE:FREQ=YEARLY;BYMONTH=10;BYDAY=-1SU
END:STANDARD
END:VTIMEZONE
BEGIN:VEVENT
SUMMARY:Celebrity Juice 19x2 - Easter Special - Phillip Schofield\,C
	ourtney Act\, Rylan Clark-Neal\, Gino D'Acampo
DTSTAMP:20180320T060403Z
SEQUENCE:0
UID:84402-2-841ebed20eb198c4569419e99b7bf40a@themidnightzone.com
ORGANIZER;CN="Midnight":midnight@themidnightzone.com
DESCRIPTION:The brand new series continues with Fearne Cotton taking onH
	olly Willoughby in a series of hilarious rounds and games\,hosted by the i
	nimitable and outrageous Keith Lemon. Joiningthe Easter Special panel this
	 week is TV Legend PhillipSchofield\, Drag Queen and CBB champion Courtney
	 Act\, TVpresenter Rylan Clark-Neal and Celebrity Juice regular Gino‘She
	ffield' D'Acampo.
DTSTART:20180329T210000Z
DTEND:20180329T215000Z
END:VEVENT
END:VCALENDAR
