BEGIN:VCALENDAR
VERSION:2.0
PRODID:-//InvisionCommunity Events 4.7.23//EN
METHOD:PUBLISH
CALSCALE:GREGORIAN
REFRESH-INTERVAL:PT15M
X-PUBLISHED-TTL:PT15M
X-WR-CALNAME:At My TV
NAME:At My TV
BEGIN:VTIMEZONE
TZID:Europe/London
TZURL:http://tzurl.org/zoneinfo/Europe/London
X-LIC-LOCATION:Europe/London
BEGIN:DAYLIGHT
TZOFFSETFROM:+0000
TZOFFSETTO:+0100
TZNAME:BST
DTSTART:20180325T020000Z
RRULE:FREQ=YEARLY;BYMONTH=3;BYDAY=-1SU
END:DAYLIGHT
BEGIN:STANDARD
TZOFFSETFROM:+0100
TZOFFSETTO:+0000
TZNAME:GMT
DTSTART:20181028T020000Z
RRULE:FREQ=YEARLY;BYMONTH=10;BYDAY=-1SU
END:STANDARD
END:VTIMEZONE
BEGIN:VEVENT
SUMMARY:Good Girls 1x5 - Taking Care of Business
DTSTAMP:20180322T060405Z
SEQUENCE:0
UID:84539-2-841ebed20eb198c4569419e99b7bf40a@themidnightzone.com
ORGANIZER;CN="Midnight":midnight@themidnightzone.com
DESCRIPTION:With Dean back in the house\, and her criminal activitiesexp
	anding\, Beth struggles to keep her new business separatefrom her home lif
	e. When Sadie goes on a trip\, Annie'sloneliness leads her to an ill-advis
	ed one-night stand. Rubydoubles down on her lies to Stan. FBI Agent Jim Tu
	rner followsup on Boomer's tip about the women.
DTSTART:20180327T020000Z
DTEND:20180327T030000Z
END:VEVENT
END:VCALENDAR
