BEGIN:VCALENDAR
VERSION:2.0
PRODID:-//InvisionCommunity Events 4.7.23//EN
METHOD:PUBLISH
CALSCALE:GREGORIAN
REFRESH-INTERVAL:PT15M
X-PUBLISHED-TTL:PT15M
X-WR-CALNAME:At My TV
NAME:At My TV
BEGIN:VTIMEZONE
TZID:Europe/London
TZURL:http://tzurl.org/zoneinfo/Europe/London
X-LIC-LOCATION:Europe/London
BEGIN:DAYLIGHT
TZOFFSETFROM:+0000
TZOFFSETTO:+0100
TZNAME:BST
DTSTART:20180325T020000Z
RRULE:FREQ=YEARLY;BYMONTH=3;BYDAY=-1SU
END:DAYLIGHT
BEGIN:STANDARD
TZOFFSETFROM:+0100
TZOFFSETTO:+0000
TZNAME:GMT
DTSTART:20181028T020000Z
RRULE:FREQ=YEARLY;BYMONTH=10;BYDAY=-1SU
END:STANDARD
END:VTIMEZONE
BEGIN:VEVENT
SUMMARY:LA to Vegas 1x11 - Jack Silver
DTSTAMP:20180322T060405Z
SEQUENCE:0
UID:84545-2-841ebed20eb198c4569419e99b7bf40a@themidnightzone.com
ORGANIZER;CN="Midnight":midnight@themidnightzone.com
DESCRIPTION:The eccentric owner of Jackpot Airlines\, Jack Silver\, is o
	nthe flight to Vegas\, but when he discovers he'll be arrestedupon arrival
	\, he tries to hijack the plane and reroute it toMexico. Then\, while comp
	eting to impress Jack\, Ronnie andBernard are caught on camera in a compro
	mising position\, andColin agrees to a bet with Artem and Nichole that he 
	thinks hecannot lose.
DTSTART:20180404T010000Z
DTEND:20180404T013000Z
END:VEVENT
END:VCALENDAR
