BEGIN:VCALENDAR
VERSION:2.0
PRODID:-//InvisionCommunity Events 4.7.23//EN
METHOD:PUBLISH
CALSCALE:GREGORIAN
REFRESH-INTERVAL:PT15M
X-PUBLISHED-TTL:PT15M
X-WR-CALNAME:At My TV
NAME:At My TV
BEGIN:VTIMEZONE
TZID:Europe/London
TZURL:http://tzurl.org/zoneinfo/Europe/London
X-LIC-LOCATION:Europe/London
BEGIN:DAYLIGHT
TZOFFSETFROM:+0000
TZOFFSETTO:+0100
TZNAME:BST
DTSTART:20180325T020000Z
RRULE:FREQ=YEARLY;BYMONTH=3;BYDAY=-1SU
END:DAYLIGHT
BEGIN:STANDARD
TZOFFSETFROM:+0100
TZOFFSETTO:+0000
TZNAME:GMT
DTSTART:20181028T020000Z
RRULE:FREQ=YEARLY;BYMONTH=10;BYDAY=-1SU
END:STANDARD
END:VTIMEZONE
BEGIN:VEVENT
SUMMARY:Tattoo Fixers 4x17 - Most Shocking
DTSTAMP:20180322T060407Z
SEQUENCE:0
UID:84561-2-841ebed20eb198c4569419e99b7bf40a@themidnightzone.com
ORGANIZER;CN="Midnight":midnight@themidnightzone.com
DESCRIPTION:A Tattoo Fixers special looking back at some of the moststar
	tling\, surprising and scandalous moments the show has everseen. Sketch gi
	ves Gaz's downstairs an undead design\, Alicehelps Amy say adios to a prep
	osterous proposal\, and Jay takeson Josh's cringeworthy kiss. Meanwhile\, 
	Chelsea drops abombshell\, Cordelle turns out to be a party pooper\, and I
	an'sludicrous lingerie gets an airing.
DTSTART:20180327T200000Z
DTEND:20180327T210000Z
END:VEVENT
END:VCALENDAR
