BEGIN:VCALENDAR
VERSION:2.0
PRODID:-//InvisionCommunity Events 4.7.23//EN
METHOD:PUBLISH
CALSCALE:GREGORIAN
REFRESH-INTERVAL:PT15M
X-PUBLISHED-TTL:PT15M
X-WR-CALNAME:At My TV
NAME:At My TV
BEGIN:VTIMEZONE
TZID:Europe/London
TZURL:http://tzurl.org/zoneinfo/Europe/London
X-LIC-LOCATION:Europe/London
BEGIN:DAYLIGHT
TZOFFSETFROM:+0000
TZOFFSETTO:+0100
TZNAME:BST
DTSTART:20180325T020000Z
RRULE:FREQ=YEARLY;BYMONTH=3;BYDAY=-1SU
END:DAYLIGHT
BEGIN:STANDARD
TZOFFSETFROM:+0100
TZOFFSETTO:+0000
TZNAME:GMT
DTSTART:20181028T020000Z
RRULE:FREQ=YEARLY;BYMONTH=10;BYDAY=-1SU
END:STANDARD
END:VTIMEZONE
BEGIN:VEVENT
SUMMARY:For the People 1x4 - The Library Fountain
DTSTAMP:20180323T060406Z
SEQUENCE:0
UID:84595-2-841ebed20eb198c4569419e99b7bf40a@themidnightzone.com
ORGANIZER;CN="Midnight":midnight@themidnightzone.com
DESCRIPTION:After Seth learns that the people of his hometown and former
	elementary school in Lincoln\, Nebraska\, have become seriouslyill due to 
	groundwater contamination\, he becomes invested inseeking justice\, potent
	ially jeopardizing the future of hiscareer. Sandra\, Jay and Allison assis
	t Jill with a potentialmurder case\, but as they grow skeptical of their c
	lient\, Jillonly grows more passionate.
DTSTART:20180404T020000Z
DTEND:20180404T030000Z
END:VEVENT
END:VCALENDAR
