BEGIN:VCALENDAR
VERSION:2.0
PRODID:-//InvisionCommunity Events 4.7.23//EN
METHOD:PUBLISH
CALSCALE:GREGORIAN
REFRESH-INTERVAL:PT15M
X-PUBLISHED-TTL:PT15M
X-WR-CALNAME:At My TV
NAME:At My TV
BEGIN:VTIMEZONE
TZID:Europe/London
TZURL:http://tzurl.org/zoneinfo/Europe/London
X-LIC-LOCATION:Europe/London
BEGIN:DAYLIGHT
TZOFFSETFROM:+0000
TZOFFSETTO:+0100
TZNAME:BST
DTSTART:20180325T020000Z
RRULE:FREQ=YEARLY;BYMONTH=3;BYDAY=-1SU
END:DAYLIGHT
BEGIN:STANDARD
TZOFFSETFROM:+0100
TZOFFSETTO:+0000
TZNAME:GMT
DTSTART:20181028T020000Z
RRULE:FREQ=YEARLY;BYMONTH=10;BYDAY=-1SU
END:STANDARD
END:VTIMEZONE
BEGIN:VEVENT
SUMMARY:Jane The Virgin 4x15 - Chapter Seventy-Nine
DTSTAMP:20180324T060404Z
SEQUENCE:0
UID:84653-2-841ebed20eb198c4569419e99b7bf40a@themidnightzone.com
ORGANIZER;CN="Midnight":midnight@themidnightzone.com
DESCRIPTION:After Jane\, Rafael\, Petra and JR all go out together\, Jan
	eis bothered to learn that JR doesn't like her. Jane and Rafaelbrush off a
	 big relationship moment\, but they both try to makeup for it in different
	 ways. Rogelio is nervous to tell Darcithat he is no longer able to be a \
	"Danny\" so he uses Xo as ascapegoat landing him in hot water with both Xo
	 and Darci.Meanwhile\, Jane helps Alba secretly prepare for the biggesttes
	t in her life.
DTSTART:20180407T010000Z
DTEND:20180407T020000Z
END:VEVENT
END:VCALENDAR
