BEGIN:VCALENDAR
VERSION:2.0
PRODID:-//InvisionCommunity Events 4.7.23//EN
METHOD:PUBLISH
CALSCALE:GREGORIAN
REFRESH-INTERVAL:PT15M
X-PUBLISHED-TTL:PT15M
X-WR-CALNAME:Pogdesign
NAME:Pogdesign
BEGIN:VTIMEZONE
TZID:Europe/London
TZURL:http://tzurl.org/zoneinfo/Europe/London
X-LIC-LOCATION:Europe/London
BEGIN:DAYLIGHT
TZOFFSETFROM:+0000
TZOFFSETTO:+0100
TZNAME:BST
DTSTART:20180325T020000Z
RRULE:FREQ=YEARLY;BYMONTH=3;BYDAY=-1SU
END:DAYLIGHT
BEGIN:STANDARD
TZOFFSETFROM:+0100
TZOFFSETTO:+0000
TZNAME:GMT
DTSTART:20181028T020000Z
RRULE:FREQ=YEARLY;BYMONTH=10;BYDAY=-1SU
END:STANDARD
END:VTIMEZONE
BEGIN:VEVENT
SUMMARY:The Voice (US) 14x12 - The Knockouts Premiere
DTSTAMP:20180326T100401Z
SEQUENCE:0
UID:84780-3-841ebed20eb198c4569419e99b7bf40a@themidnightzone.com
ORGANIZER;CN="Midnight":midnight@themidnightzone.com
DESCRIPTION:In the knockout rounds\, former Voice champions return toadv
	ise the artists. Season 3's Cassadee Pope advises TeamKelly\, Season 9's J
	ordan Smith advises Team Adam\, Season 12'sChris Blue advises Team Alicia\
	, and last season's ChloeKohanski advises Team Blake. Each coach chooses t
	he winner oftheir pairing to move on to the Live Playoff shows. In a newtw
	ist\, the coaches will have the opportunity to save one oftheir artists in
	 addition to being able to steal someone thatwould otherwise go home.
DTSTART:20180402T200000Z
DTEND:20180402T213000Z
END:VEVENT
END:VCALENDAR
