BEGIN:VCALENDAR
VERSION:2.0
PRODID:-//InvisionCommunity Events 4.7.23//EN
METHOD:PUBLISH
CALSCALE:GREGORIAN
REFRESH-INTERVAL:PT15M
X-PUBLISHED-TTL:PT15M
X-WR-CALNAME:Pogdesign
NAME:Pogdesign
BEGIN:VTIMEZONE
TZID:Europe/London
TZURL:http://tzurl.org/zoneinfo/Europe/London
X-LIC-LOCATION:Europe/London
BEGIN:DAYLIGHT
TZOFFSETFROM:+0000
TZOFFSETTO:+0100
TZNAME:BST
DTSTART:20180325T020000Z
RRULE:FREQ=YEARLY;BYMONTH=3;BYDAY=-1SU
END:DAYLIGHT
BEGIN:STANDARD
TZOFFSETFROM:+0100
TZOFFSETTO:+0000
TZNAME:GMT
DTSTART:20181028T020000Z
RRULE:FREQ=YEARLY;BYMONTH=10;BYDAY=-1SU
END:STANDARD
END:VTIMEZONE
BEGIN:VEVENT
SUMMARY:Empire 4x12 - Sweet Sorrow
DTSTAMP:20180329T100401Z
SEQUENCE:0
UID:84933-3-841ebed20eb198c4569419e99b7bf40a@themidnightzone.com
ORGANIZER;CN="Midnight":midnight@themidnightzone.com
DESCRIPTION:A Lyon health scare shakes up Empire\, as Cookie holds down 
	thefort\, in spite of it all. Both Andre and Jamal try to righttheir wrong
	s\, and Jamal makes a shocking revelation on live TVwith Robin Roberts. Ea
	ger to take Empire to new heights\,Eddie's motives are questioned when num
	bers don't add up.Meanwhile\, Hakeem and Tiana find common ground and Beck
	yreveals the secret she's been keeping from J. Poppa.
DTSTART:20180411T200000Z
DTEND:20180411T210000Z
END:VEVENT
END:VCALENDAR
